BEGIN:VCALENDAR
VERSION:2.0
PRODID:-//La Couronne - ECPv6.15.20//NONSGML v1.0//EN
CALSCALE:GREGORIAN
METHOD:PUBLISH
X-ORIGINAL-URL:https://www.lacouronne.fr
X-WR-CALDESC:Évènements pour La Couronne
REFRESH-INTERVAL;VALUE=DURATION:PT1H
X-Robots-Tag:noindex
X-PUBLISHED-TTL:PT1H
BEGIN:VTIMEZONE
TZID:Europe/Paris
BEGIN:DAYLIGHT
TZOFFSETFROM:+0100
TZOFFSETTO:+0200
TZNAME:CEST
DTSTART:20230326T010000
END:DAYLIGHT
BEGIN:STANDARD
TZOFFSETFROM:+0200
TZOFFSETTO:+0100
TZNAME:CET
DTSTART:20231029T010000
END:STANDARD
BEGIN:DAYLIGHT
TZOFFSETFROM:+0100
TZOFFSETTO:+0200
TZNAME:CEST
DTSTART:20240331T010000
END:DAYLIGHT
BEGIN:STANDARD
TZOFFSETFROM:+0200
TZOFFSETTO:+0100
TZNAME:CET
DTSTART:20241027T010000
END:STANDARD
BEGIN:DAYLIGHT
TZOFFSETFROM:+0100
TZOFFSETTO:+0200
TZNAME:CEST
DTSTART:20250330T010000
END:DAYLIGHT
BEGIN:STANDARD
TZOFFSETFROM:+0200
TZOFFSETTO:+0100
TZNAME:CET
DTSTART:20251026T010000
END:STANDARD
END:VTIMEZONE
BEGIN:VEVENT
DTSTART;TZID=Europe/Paris:20240319T100000
DTEND;TZID=Europe/Paris:20240319T110000
DTSTAMP:20260424T142448
CREATED:20240205T111250Z
LAST-MODIFIED:20240304T103527Z
UID:10001394-1710842400-1710846000@www.lacouronne.fr
SUMMARY:Lecture sans frontières
DESCRIPTION:
URL:https://www.lacouronne.fr/evenement/lecture-sans-frontieres/
CATEGORIES:Culture
ATTACH;FMTTYPE=image/jpeg:https://www.lacouronne.fr/wp-content/uploads/2024/02/Ajouter-un-sous-titre-3-1.jpg
END:VEVENT
BEGIN:VEVENT
DTSTART;TZID=Europe/Paris:20240322T080000
DTEND;TZID=Europe/Paris:20240412T170000
DTSTAMP:20260424T142448
CREATED:20240319T084124Z
LAST-MODIFIED:20240319T084124Z
UID:10001410-1711094400-1712941200@www.lacouronne.fr
SUMMARY:Exposition " Histoire\, Sport et Citoyenneté "
DESCRIPTION:Exposition au Centre Culturel La Couronne – GRATUIT 
URL:https://www.lacouronne.fr/evenement/exposition-histoire-sport-et-citoyennete/
CATEGORIES:Culture
ATTACH;FMTTYPE=image/jpeg:https://www.lacouronne.fr/wp-content/uploads/2024/03/Affiche_expo_casden-2.jpg
END:VEVENT
BEGIN:VEVENT
DTSTART;TZID=Europe/Paris:20240322T200000
DTEND;TZID=Europe/Paris:20240322T200000
DTSTAMP:20260424T142448
CREATED:20240205T154614Z
LAST-MODIFIED:20240219T083820Z
UID:10001397-1711137600-1711137600@www.lacouronne.fr
SUMMARY:Vole Eddie Vole !
DESCRIPTION:
URL:https://www.lacouronne.fr/evenement/vole-eddie-vole/
CATEGORIES:Culture
ATTACH;FMTTYPE=image/jpeg:https://www.lacouronne.fr/wp-content/uploads/2024/02/affiche-40x60-OK.jpg
END:VEVENT
BEGIN:VEVENT
DTSTART;TZID=Europe/Paris:20240410T100000
DTEND;TZID=Europe/Paris:20240410T110000
DTSTAMP:20260424T142448
CREATED:20240219T083943Z
LAST-MODIFIED:20240304T103606Z
UID:10001399-1712743200-1712746800@www.lacouronne.fr
SUMMARY:Bébés Lecteurs
DESCRIPTION:
URL:https://www.lacouronne.fr/evenement/bebes-lecteurs-4/
CATEGORIES:Culture
ATTACH;FMTTYPE=image/jpeg:https://www.lacouronne.fr/wp-content/uploads/2024/02/5.jpg
END:VEVENT
BEGIN:VEVENT
DTSTART;TZID=Europe/Paris:20240417T150000
DTEND;TZID=Europe/Paris:20240417T160000
DTSTAMP:20260424T142448
CREATED:20240329T132051Z
LAST-MODIFIED:20240329T132514Z
UID:10001414-1713366000-1713369600@www.lacouronne.fr
SUMMARY:Animation - Carte pop-up
DESCRIPTION:
URL:https://www.lacouronne.fr/evenement/animation-carte-pop-up/
CATEGORIES:Culture
ATTACH;FMTTYPE=image/jpeg:https://www.lacouronne.fr/wp-content/uploads/2024/03/434188994_933429968787609_7948885820006575184_n.jpg
END:VEVENT
BEGIN:VEVENT
DTSTART;TZID=Europe/Paris:20240424T150000
DTEND;TZID=Europe/Paris:20240424T160000
DTSTAMP:20260424T142448
CREATED:20240329T132205Z
LAST-MODIFIED:20240329T132223Z
UID:10001415-1713970800-1713974400@www.lacouronne.fr
SUMMARY:Animation - Carte pop-up
DESCRIPTION:
URL:https://www.lacouronne.fr/evenement/animation-carte-pop-up-2/
CATEGORIES:Culture
ATTACH;FMTTYPE=image/jpeg:https://www.lacouronne.fr/wp-content/uploads/2024/03/434430785_933429958787610_7954279578866635624_n.jpg
END:VEVENT
BEGIN:VEVENT
DTSTART;TZID=Europe/Paris:20240501T080000
DTEND;TZID=Europe/Paris:20240531T170000
DTSTAMP:20260424T142448
CREATED:20240430T094145Z
LAST-MODIFIED:20240430T094145Z
UID:10001426-1714550400-1717174800@www.lacouronne.fr
SUMMARY:Ce mois-ci à La Couronne
DESCRIPTION:
URL:https://www.lacouronne.fr/evenement/ce-mois-ci-a-la-couronne-3/
CATEGORIES:Citoyenneté,Culture,Sport
ATTACH;FMTTYPE=image/jpeg:https://www.lacouronne.fr/wp-content/uploads/2024/04/Ce-mois-ci-scaled.jpg
END:VEVENT
BEGIN:VEVENT
DTSTART;VALUE=DATE:20240511
DTEND;VALUE=DATE:20240512
DTSTAMP:20260424T142448
CREATED:20240424T131524Z
LAST-MODIFIED:20240426T075658Z
UID:10001423-1715385600-1715471999@www.lacouronne.fr
SUMMARY:VACARME(S) OU COMMENT L'HOMME MARCHE SUR LA TERRE
DESCRIPTION:
URL:https://www.lacouronne.fr/evenement/vacarnes-ou-comment-lhomme-marche-sur-la-terre/
LOCATION:Théâtre de La Couronne\, 1 allée des Sports\, La Couronne\, 16400\, France
CATEGORIES:Culture
ATTACH;FMTTYPE=image/png:https://www.lacouronne.fr/wp-content/uploads/2024/04/VACARNES.png
END:VEVENT
BEGIN:VEVENT
DTSTART;TZID=Europe/Paris:20240515T100000
DTEND;TZID=Europe/Paris:20240515T170000
DTSTAMP:20260424T142448
CREATED:20240513T124937Z
LAST-MODIFIED:20240513T124937Z
UID:10001440-1715767200-1715792400@www.lacouronne.fr
SUMMARY:Bébés lecteurs
DESCRIPTION:
URL:https://www.lacouronne.fr/evenement/bebes-lecteurs-5/
CATEGORIES:Culture
ATTACH;FMTTYPE=image/jpeg:https://www.lacouronne.fr/wp-content/uploads/2024/05/438161161_960373786093227_3535566062346954984_n.jpg
END:VEVENT
BEGIN:VEVENT
DTSTART;TZID=Europe/Paris:20240515T163000
DTEND;TZID=Europe/Paris:20240515T170000
DTSTAMP:20260424T142448
CREATED:20240502T132747Z
LAST-MODIFIED:20240502T132747Z
UID:10001438-1715790600-1715792400@www.lacouronne.fr
SUMMARY:Projection proposée dans le cadre du festival "Petites oreilles en goguette"
DESCRIPTION:N’oubliez pas de réserver votre place pour cette projection spéciale au Théâtre Espace Culturel La Couronne\, le mercredi 15 mai à 16h30.\n\n\nC’est gratuit et ouvert à toutes et tous à partir de 3 ans !\n\n\nRéservez maintenant au  05 45 67 29 67
URL:https://www.lacouronne.fr/evenement/projection-proposee-dans-le-cadre-du-festival-petites-oreilles-en-goguette/
CATEGORIES:Culture
ATTACH;FMTTYPE=image/jpeg:https://www.lacouronne.fr/wp-content/uploads/2024/05/Petites_OreillesLLSbd_1.jpg
END:VEVENT
BEGIN:VEVENT
DTSTART;TZID=Europe/Paris:20240518T100000
DTEND;TZID=Europe/Paris:20240518T170000
DTSTAMP:20260424T142448
CREATED:20240513T125123Z
LAST-MODIFIED:20240513T125123Z
UID:10001441-1716026400-1716051600@www.lacouronne.fr
SUMMARY:Concours de nouvelles : remise des prix
DESCRIPTION:
URL:https://www.lacouronne.fr/evenement/concours-de-nouvelles-remise-des-prix/
CATEGORIES:Culture
ATTACH;FMTTYPE=image/jpeg:https://www.lacouronne.fr/wp-content/uploads/2024/05/440769443_962325922564680_5601505480375011969_n.jpg
END:VEVENT
BEGIN:VEVENT
DTSTART;TZID=Europe/Paris:20240601T103000
DTEND;TZID=Europe/Paris:20240601T150000
DTSTAMP:20260424T142448
CREATED:20240530T135746Z
LAST-MODIFIED:20240530T135746Z
UID:10001453-1717237800-1717254000@www.lacouronne.fr
SUMMARY:Rendez-vous aux jardins
DESCRIPTION:
URL:https://www.lacouronne.fr/evenement/rendez-vous-aux-jardins/
CATEGORIES:Culture
ATTACH;FMTTYPE=image/jpeg:https://www.lacouronne.fr/wp-content/uploads/2024/05/2.jpg
END:VEVENT
BEGIN:VEVENT
DTSTART;TZID=Europe/Paris:20240612T100000
DTEND;TZID=Europe/Paris:20240612T120000
DTSTAMP:20260424T142448
CREATED:20240611T100151Z
LAST-MODIFIED:20240611T100151Z
UID:10001465-1718186400-1718193600@www.lacouronne.fr
SUMMARY:bébés lecteurs
DESCRIPTION:
URL:https://www.lacouronne.fr/evenement/bebes-lecteurs-6/
CATEGORIES:Culture
ATTACH;FMTTYPE=image/jpeg:https://www.lacouronne.fr/wp-content/uploads/2024/06/448018839_986958640101408_3962918577690902144_n.jpg
END:VEVENT
BEGIN:VEVENT
DTSTART;TZID=Europe/Paris:20240625T100000
DTEND;TZID=Europe/Paris:20240625T120000
DTSTAMP:20260424T142448
CREATED:20240611T100055Z
LAST-MODIFIED:20240611T100055Z
UID:10001464-1719309600-1719316800@www.lacouronne.fr
SUMMARY:Lectures sans frontières
DESCRIPTION:
URL:https://www.lacouronne.fr/evenement/lectures-sans-frontieres/
CATEGORIES:Culture
ATTACH;FMTTYPE=image/jpeg:https://www.lacouronne.fr/wp-content/uploads/2024/06/445761187_979174884213117_1866652449020520868_n.jpg
END:VEVENT
END:VCALENDAR