BEGIN:VCALENDAR
VERSION:2.0
PRODID:-//La Couronne - ECPv6.15.20//NONSGML v1.0//EN
CALSCALE:GREGORIAN
METHOD:PUBLISH
X-ORIGINAL-URL:https://www.lacouronne.fr
X-WR-CALDESC:Évènements pour La Couronne
REFRESH-INTERVAL;VALUE=DURATION:PT1H
X-Robots-Tag:noindex
X-PUBLISHED-TTL:PT1H
BEGIN:VTIMEZONE
TZID:Europe/Paris
BEGIN:DAYLIGHT
TZOFFSETFROM:+0100
TZOFFSETTO:+0200
TZNAME:CEST
DTSTART:20230326T010000
END:DAYLIGHT
BEGIN:STANDARD
TZOFFSETFROM:+0200
TZOFFSETTO:+0100
TZNAME:CET
DTSTART:20231029T010000
END:STANDARD
BEGIN:DAYLIGHT
TZOFFSETFROM:+0100
TZOFFSETTO:+0200
TZNAME:CEST
DTSTART:20240331T010000
END:DAYLIGHT
BEGIN:STANDARD
TZOFFSETFROM:+0200
TZOFFSETTO:+0100
TZNAME:CET
DTSTART:20241027T010000
END:STANDARD
BEGIN:DAYLIGHT
TZOFFSETFROM:+0100
TZOFFSETTO:+0200
TZNAME:CEST
DTSTART:20250330T010000
END:DAYLIGHT
BEGIN:STANDARD
TZOFFSETFROM:+0200
TZOFFSETTO:+0100
TZNAME:CET
DTSTART:20251026T010000
END:STANDARD
END:VTIMEZONE
BEGIN:VEVENT
DTSTART;TZID=Europe/Paris:20240518T100000
DTEND;TZID=Europe/Paris:20240518T170000
DTSTAMP:20260424T202453
CREATED:20240513T125123Z
LAST-MODIFIED:20240513T125123Z
UID:10001441-1716026400-1716051600@www.lacouronne.fr
SUMMARY:Concours de nouvelles : remise des prix
DESCRIPTION:
URL:https://www.lacouronne.fr/evenement/concours-de-nouvelles-remise-des-prix/
CATEGORIES:Culture
ATTACH;FMTTYPE=image/jpeg:https://www.lacouronne.fr/wp-content/uploads/2024/05/440769443_962325922564680_5601505480375011969_n.jpg
END:VEVENT
BEGIN:VEVENT
DTSTART;TZID=Europe/Paris:20240601T103000
DTEND;TZID=Europe/Paris:20240601T150000
DTSTAMP:20260424T202453
CREATED:20240530T135746Z
LAST-MODIFIED:20240530T135746Z
UID:10001453-1717237800-1717254000@www.lacouronne.fr
SUMMARY:Rendez-vous aux jardins
DESCRIPTION:
URL:https://www.lacouronne.fr/evenement/rendez-vous-aux-jardins/
CATEGORIES:Culture
ATTACH;FMTTYPE=image/jpeg:https://www.lacouronne.fr/wp-content/uploads/2024/05/2.jpg
END:VEVENT
BEGIN:VEVENT
DTSTART;TZID=Europe/Paris:20240612T100000
DTEND;TZID=Europe/Paris:20240612T120000
DTSTAMP:20260424T202453
CREATED:20240611T100151Z
LAST-MODIFIED:20240611T100151Z
UID:10001465-1718186400-1718193600@www.lacouronne.fr
SUMMARY:bébés lecteurs
DESCRIPTION:
URL:https://www.lacouronne.fr/evenement/bebes-lecteurs-6/
CATEGORIES:Culture
ATTACH;FMTTYPE=image/jpeg:https://www.lacouronne.fr/wp-content/uploads/2024/06/448018839_986958640101408_3962918577690902144_n.jpg
END:VEVENT
BEGIN:VEVENT
DTSTART;TZID=Europe/Paris:20240625T100000
DTEND;TZID=Europe/Paris:20240625T120000
DTSTAMP:20260424T202453
CREATED:20240611T100055Z
LAST-MODIFIED:20240611T100055Z
UID:10001464-1719309600-1719316800@www.lacouronne.fr
SUMMARY:Lectures sans frontières
DESCRIPTION:
URL:https://www.lacouronne.fr/evenement/lectures-sans-frontieres/
CATEGORIES:Culture
ATTACH;FMTTYPE=image/jpeg:https://www.lacouronne.fr/wp-content/uploads/2024/06/445761187_979174884213117_1866652449020520868_n.jpg
END:VEVENT
END:VCALENDAR