BEGIN:VCALENDAR
VERSION:2.0
PRODID:-//La Couronne - ECPv6.15.20//NONSGML v1.0//EN
CALSCALE:GREGORIAN
METHOD:PUBLISH
X-WR-CALNAME:La Couronne
X-ORIGINAL-URL:https://www.lacouronne.fr
X-WR-CALDESC:Évènements pour La Couronne
REFRESH-INTERVAL;VALUE=DURATION:PT1H
X-Robots-Tag:noindex
X-PUBLISHED-TTL:PT1H
BEGIN:VTIMEZONE
TZID:Europe/Paris
BEGIN:DAYLIGHT
TZOFFSETFROM:+0100
TZOFFSETTO:+0200
TZNAME:CEST
DTSTART:20220327T010000
END:DAYLIGHT
BEGIN:STANDARD
TZOFFSETFROM:+0200
TZOFFSETTO:+0100
TZNAME:CET
DTSTART:20221030T010000
END:STANDARD
BEGIN:DAYLIGHT
TZOFFSETFROM:+0100
TZOFFSETTO:+0200
TZNAME:CEST
DTSTART:20230326T010000
END:DAYLIGHT
BEGIN:STANDARD
TZOFFSETFROM:+0200
TZOFFSETTO:+0100
TZNAME:CET
DTSTART:20231029T010000
END:STANDARD
BEGIN:DAYLIGHT
TZOFFSETFROM:+0100
TZOFFSETTO:+0200
TZNAME:CEST
DTSTART:20240331T010000
END:DAYLIGHT
BEGIN:STANDARD
TZOFFSETFROM:+0200
TZOFFSETTO:+0100
TZNAME:CET
DTSTART:20241027T010000
END:STANDARD
BEGIN:DAYLIGHT
TZOFFSETFROM:+0100
TZOFFSETTO:+0200
TZNAME:CEST
DTSTART:20250330T010000
END:DAYLIGHT
BEGIN:STANDARD
TZOFFSETFROM:+0200
TZOFFSETTO:+0100
TZNAME:CET
DTSTART:20251026T010000
END:STANDARD
END:VTIMEZONE
BEGIN:VEVENT
DTSTART;TZID=Europe/Paris:20230923T080000
DTEND;TZID=Europe/Paris:20230923T170000
DTSTAMP:20260421T173641
CREATED:20230824T090226Z
LAST-MODIFIED:20230824T090226Z
UID:10001332-1695456000-1695488400@www.lacouronne.fr
SUMMARY:Le Colibri en fête !
DESCRIPTION:
URL:https://www.lacouronne.fr/evenement/le-colibri-en-fete/
CATEGORIES:CSCS
ATTACH;FMTTYPE=image/jpeg:https://www.lacouronne.fr/wp-content/uploads/2023/08/Le-colibri-en-fete.jpeg
END:VEVENT
BEGIN:VEVENT
DTSTART;TZID=Europe/Paris:20230924T080000
DTEND;TZID=Europe/Paris:20230924T170000
DTSTAMP:20260421T173641
CREATED:20230830T092209Z
LAST-MODIFIED:20230830T092209Z
UID:10001335-1695542400-1695574800@www.lacouronne.fr
SUMMARY:6h VTT
DESCRIPTION:
URL:https://www.lacouronne.fr/evenement/6h-vtt/
CATEGORIES:Sport
ATTACH;FMTTYPE=image/jpeg:https://www.lacouronne.fr/wp-content/uploads/2023/08/VTT.jpg
END:VEVENT
BEGIN:VEVENT
DTSTART;TZID=Europe/Paris:20230924T083000
DTEND;TZID=Europe/Paris:20230924T170000
DTSTAMP:20260421T173641
CREATED:20230818T082338Z
LAST-MODIFIED:20230818T082338Z
UID:10001329-1695544200-1695574800@www.lacouronne.fr
SUMMARY:8ème édition : Bourse Miniatures et Jouets de Collection
DESCRIPTION:
URL:https://www.lacouronne.fr/evenement/8eme-edition-bourse-miniatures-et-jouets-de-collection/
ATTACH;FMTTYPE=image/jpeg:https://www.lacouronne.fr/wp-content/uploads/2023/08/Bourse-miniature-et-modelisme-scaled.jpeg
END:VEVENT
BEGIN:VEVENT
DTSTART;TZID=Europe/Paris:20230929T163000
DTEND;TZID=Europe/Paris:20230929T193000
DTSTAMP:20260421T173641
CREATED:20230818T084451Z
LAST-MODIFIED:20230921T121037Z
UID:10001331-1696005000-1696015800@www.lacouronne.fr
SUMMARY:Don de sang
DESCRIPTION:
URL:https://www.lacouronne.fr/evenement/don-de-sang-2/
CATEGORIES:Citoyenneté
ATTACH;FMTTYPE=image/jpeg:https://www.lacouronne.fr/wp-content/uploads/2023/08/version1uuid5974963A-2EB0-4490-BDB7-7FEC803B7608modecompatiblenoloc0.jpeg.jpg
END:VEVENT
BEGIN:VEVENT
DTSTART;TZID=Europe/Paris:20230930T080000
DTEND;TZID=Europe/Paris:20231001T170000
DTSTAMP:20260421T173641
CREATED:20230818T083758Z
LAST-MODIFIED:20231002T142232Z
UID:10001330-1696060800-1696179600@www.lacouronne.fr
SUMMARY:Les Médiévales de La Couronne
DESCRIPTION:
URL:https://www.lacouronne.fr/evenement/les-medievales-de-la-couronne/
CATEGORIES:Culture
ATTACH;FMTTYPE=image/jpeg:https://www.lacouronne.fr/wp-content/uploads/2023/08/FB_IMG_1692347744168.jpg
END:VEVENT
BEGIN:VEVENT
DTSTART;TZID=Europe/Paris:20230930T080000
DTEND;TZID=Europe/Paris:20231210T170000
DTSTAMP:20260421T173641
CREATED:20231002T145142Z
LAST-MODIFIED:20231002T145218Z
UID:10001350-1696060800-1702227600@www.lacouronne.fr
SUMMARY:Programme Téléthon
DESCRIPTION:
URL:https://www.lacouronne.fr/evenement/programme-telethon/
CATEGORIES:Citoyenneté
ATTACH;FMTTYPE=image/jpeg:https://www.lacouronne.fr/wp-content/uploads/2023/10/Programme_Telethon.jpg
END:VEVENT
BEGIN:VEVENT
DTSTART;TZID=Europe/Paris:20230930T200000
DTEND;TZID=Europe/Paris:20230930T230000
DTSTAMP:20260421T173641
CREATED:20230911T143649Z
LAST-MODIFIED:20230911T145314Z
UID:10001336-1696104000-1696114800@www.lacouronne.fr
SUMMARY:Dîner Dansant en l'honneur du Téléthon
DESCRIPTION:
URL:https://www.lacouronne.fr/evenement/diner-dansant-en-lhonneur-du-telethon/
CATEGORIES:Citoyenneté
ATTACH;FMTTYPE=image/jpeg:https://www.lacouronne.fr/wp-content/uploads/2023/09/Affiche-Diner-dansant-30-Septembre-A3.jpg
END:VEVENT
BEGIN:VEVENT
DTSTART;TZID=Europe/Paris:20231001T140000
DTEND;TZID=Europe/Paris:20231001T170000
DTSTAMP:20260421T173641
CREATED:20230921T142434Z
LAST-MODIFIED:20230921T142434Z
UID:10001337-1696168800-1696179600@www.lacouronne.fr
SUMMARY:LOTO
DESCRIPTION:
URL:https://www.lacouronne.fr/evenement/loto/
CATEGORIES:Citoyenneté
ATTACH;FMTTYPE=image/png:https://www.lacouronne.fr/wp-content/uploads/2023/09/affiche-loto-mairie.png
END:VEVENT
BEGIN:VEVENT
DTSTART;TZID=Europe/Paris:20231002T080000
DTEND;TZID=Europe/Paris:20231027T170000
DTSTAMP:20260421T173641
CREATED:20231002T143852Z
LAST-MODIFIED:20231002T143934Z
UID:10001346-1696233600-1698426000@www.lacouronne.fr
SUMMARY:Expo Climat
DESCRIPTION:
URL:https://www.lacouronne.fr/evenement/expo-climat/
CATEGORIES:Citoyenneté
ATTACH;FMTTYPE=image/png:https://www.lacouronne.fr/wp-content/uploads/2023/10/Capture_decran_2023-09-28_a_12.04.30.png
END:VEVENT
BEGIN:VEVENT
DTSTART;TZID=Europe/Paris:20231008T170000
DTEND;TZID=Europe/Paris:20231008T183000
DTSTAMP:20260421T173641
CREATED:20231002T142617Z
LAST-MODIFIED:20231002T142713Z
UID:10001341-1696784400-1696789800@www.lacouronne.fr
SUMMARY:Piano en Valois - Spectacle " Piano à quatre mains "
DESCRIPTION:
URL:https://www.lacouronne.fr/evenement/piano-en-valois-spectacle-piano-a-quatre-mains/
ATTACH;FMTTYPE=image/png:https://www.lacouronne.fr/wp-content/uploads/2023/10/Capture_decran_2023-09-28_a_12.04.21.png
END:VEVENT
BEGIN:VEVENT
DTSTART;TZID=Europe/Paris:20231011T180000
DTEND;TZID=Europe/Paris:20231011T193000
DTSTAMP:20260421T173641
CREATED:20231002T142913Z
LAST-MODIFIED:20231002T142913Z
UID:10001342-1697047200-1697052600@www.lacouronne.fr
SUMMARY:Cartéclima
DESCRIPTION:
URL:https://www.lacouronne.fr/evenement/carteclima/
CATEGORIES:Citoyenneté
ATTACH;FMTTYPE=image/jpeg:https://www.lacouronne.fr/wp-content/uploads/2023/10/Cart‚clima_web.jpg
END:VEVENT
BEGIN:VEVENT
DTSTART;TZID=Europe/Paris:20231015T140000
DTEND;TZID=Europe/Paris:20231015T170000
DTSTAMP:20260421T173641
CREATED:20231002T144126Z
LAST-MODIFIED:20231002T144126Z
UID:10001347-1697378400-1697389200@www.lacouronne.fr
SUMMARY:Loto du club des ainés "Joie de Vivre"
DESCRIPTION:
URL:https://www.lacouronne.fr/evenement/loto-du-club-des-aines-joie-de-vivre/
CATEGORIES:Citoyenneté
END:VEVENT
BEGIN:VEVENT
DTSTART;TZID=Europe/Paris:20231026T080000
DTEND;TZID=Europe/Paris:20231125T170000
DTSTAMP:20260421T173641
CREATED:20231027T144746Z
LAST-MODIFIED:20231027T144746Z
UID:10001359-1698307200-1700931600@www.lacouronne.fr
SUMMARY:Les Z'ateliers
DESCRIPTION:
URL:https://www.lacouronne.fr/evenement/les-zateliers/
CATEGORIES:CSCS
ATTACH;FMTTYPE=image/jpeg:https://www.lacouronne.fr/wp-content/uploads/2023/10/394623245_636458192007299_4901743719425017072_n.jpg
END:VEVENT
BEGIN:VEVENT
DTSTART;TZID=Europe/Paris:20231029T143000
DTEND;TZID=Europe/Paris:20231029T160000
DTSTAMP:20260421T173641
CREATED:20231002T144654Z
LAST-MODIFIED:20231002T144654Z
UID:10001348-1698589800-1698595200@www.lacouronne.fr
SUMMARY:Thé dansant - Cours à la Cour
DESCRIPTION:Thé dansant à la Salle des Fêtes
URL:https://www.lacouronne.fr/evenement/the-dansant-cours-a-la-cour/
CATEGORIES:Citoyenneté
END:VEVENT
BEGIN:VEVENT
DTSTART;TZID=Europe/Paris:20231101T080000
DTEND;TZID=Europe/Paris:20240101T170000
DTSTAMP:20260421T173641
CREATED:20231027T144344Z
LAST-MODIFIED:20231027T144344Z
UID:10001356-1698825600-1704128400@www.lacouronne.fr
SUMMARY:Exposition : Les Fantômes de GrandAngoulême
DESCRIPTION:Exposition dans le Hall du Théâtre Espace Les 2B
URL:https://www.lacouronne.fr/evenement/exposition-les-fantomes-de-grandangouleme/
CATEGORIES:Culture
ATTACH;FMTTYPE=image/jpeg:https://www.lacouronne.fr/wp-content/uploads/2023/10/FantomesGA-2020-1210x642-1.jpg
END:VEVENT
BEGIN:VEVENT
DTSTART;TZID=Europe/Paris:20231104T080000
DTEND;TZID=Europe/Paris:20231201T170000
DTSTAMP:20260421T173641
CREATED:20231027T143950Z
LAST-MODIFIED:20231114T162911Z
UID:10001354-1699084800-1701450000@www.lacouronne.fr
SUMMARY:Saison culturelle : Novembre
DESCRIPTION:
URL:https://www.lacouronne.fr/evenement/saison-culturelle-novembre/
CATEGORIES:Culture
ATTACH;FMTTYPE=image/jpeg:https://www.lacouronne.fr/wp-content/uploads/2023/10/400621098_835115515285722_6379640596077870918_n.jpg
END:VEVENT
BEGIN:VEVENT
DTSTART;TZID=Europe/Paris:20231104T203000
DTEND;TZID=Europe/Paris:20231104T203000
DTSTAMP:20260421T173641
CREATED:20231027T144100Z
LAST-MODIFIED:20231027T144108Z
UID:10001355-1699129800-1699129800@www.lacouronne.fr
SUMMARY:Festival Soyaux Fou d'Humour : Les Stéréotypes
DESCRIPTION:
URL:https://www.lacouronne.fr/evenement/festival-soyaux-fou-dhumour-les-stereotypes/
CATEGORIES:Culture
ATTACH;FMTTYPE=image/png:https://www.lacouronne.fr/wp-content/uploads/2023/10/Samedi_04_Nov._20H30_Theatre_les_2B_La_Couronne.png
END:VEVENT
BEGIN:VEVENT
DTSTART;TZID=Europe/Paris:20231115T183000
DTEND;TZID=Europe/Paris:20231123T183000
DTSTAMP:20260421T173641
CREATED:20231108T080304Z
LAST-MODIFIED:20231108T080304Z
UID:10001364-1700073000-1700764200@www.lacouronne.fr
SUMMARY:Réunions publiques
DESCRIPTION:
URL:https://www.lacouronne.fr/evenement/reunions-publiques/
CATEGORIES:Citoyenneté
ATTACH;FMTTYPE=image/jpeg:https://www.lacouronne.fr/wp-content/uploads/2023/11/Reunions-publiques-8.jpg
END:VEVENT
BEGIN:VEVENT
DTSTART;TZID=Europe/Paris:20231118T093000
DTEND;TZID=Europe/Paris:20231118T170000
DTSTAMP:20260421T173641
CREATED:20231027T144847Z
LAST-MODIFIED:20231027T144847Z
UID:10001360-1700299800-1700326800@www.lacouronne.fr
SUMMARY:Portes ouvertes du Club des Ainés "Joie de Vivre"
DESCRIPTION:
URL:https://www.lacouronne.fr/evenement/portes-ouvertes-du-club-des-aines-joie-de-vivre/
CATEGORIES:Citoyenneté
ATTACH;FMTTYPE=image/png:https://www.lacouronne.fr/wp-content/uploads/2023/10/Design_sans_titre13.png
END:VEVENT
BEGIN:VEVENT
DTSTART;TZID=Europe/Paris:20231119T143000
DTEND;TZID=Europe/Paris:20231119T170000
DTSTAMP:20260421T173641
CREATED:20231114T162449Z
LAST-MODIFIED:20231114T162449Z
UID:10001368-1700404200-1700413200@www.lacouronne.fr
SUMMARY:Thé dansant
DESCRIPTION:
URL:https://www.lacouronne.fr/evenement/the-dansant-4/
CATEGORIES:Citoyenneté
ATTACH;FMTTYPE=image/jpeg:https://www.lacouronne.fr/wp-content/uploads/2023/11/Affiche-The-dansant-du-19-novembre-A3-scaled.jpg
END:VEVENT
BEGIN:VEVENT
DTSTART;TZID=Europe/Paris:20231125T090000
DTEND;TZID=Europe/Paris:20231125T170000
DTSTAMP:20260421T173641
CREATED:20231109T094049Z
LAST-MODIFIED:20231109T094049Z
UID:10001366-1700902800-1700931600@www.lacouronne.fr
SUMMARY:
DESCRIPTION:
URL:https://www.lacouronne.fr/evenement/8276/
CATEGORIES:Citoyenneté
ATTACH;FMTTYPE=image/png:https://www.lacouronne.fr/wp-content/uploads/2023/11/Affiche-Foire-aux-vins.png
END:VEVENT
BEGIN:VEVENT
DTSTART;TZID=Europe/Paris:20231126T080000
DTEND;TZID=Europe/Paris:20231126T170000
DTSTAMP:20260421T173641
CREATED:20231027T144957Z
LAST-MODIFIED:20231027T144957Z
UID:10001361-1700985600-1701018000@www.lacouronne.fr
SUMMARY:Marché de Noël de La Coronellade
DESCRIPTION:
URL:https://www.lacouronne.fr/evenement/marche-de-noel-de-la-coronellade/
CATEGORIES:Citoyenneté
ATTACH;FMTTYPE=image/png:https://www.lacouronne.fr/wp-content/uploads/2023/10/Picture.png
END:VEVENT
BEGIN:VEVENT
DTSTART;TZID=Europe/Paris:20231128T140000
DTEND;TZID=Europe/Paris:20231128T203000
DTSTAMP:20260421T173641
CREATED:20231108T125432Z
LAST-MODIFIED:20231108T125432Z
UID:10001365-1701180000-1701203400@www.lacouronne.fr
SUMMARY:Les femmes pendant la grande guerre
DESCRIPTION:
URL:https://www.lacouronne.fr/evenement/les-femmes-pendant-la-grande-guerre/
ATTACH;FMTTYPE=image/jpeg:https://www.lacouronne.fr/wp-content/uploads/2023/11/version1uuidDC2B345B-28BA-4558-BB0B-C28984DAF535modecompatiblenoloc0.jpeg
END:VEVENT
BEGIN:VEVENT
DTSTART;TZID=Europe/Paris:20231128T183000
DTEND;TZID=Europe/Paris:20231128T183000
DTSTAMP:20260421T173641
CREATED:20231027T144613Z
LAST-MODIFIED:20231027T144613Z
UID:10001358-1701196200-1701196200@www.lacouronne.fr
SUMMARY:Conférence Sport & Santé
DESCRIPTION:
URL:https://www.lacouronne.fr/evenement/conference-sport-sante/
CATEGORIES:Sport
ATTACH;FMTTYPE=image/jpeg:https://www.lacouronne.fr/wp-content/uploads/2023/10/image001.jpg
END:VEVENT
BEGIN:VEVENT
DTSTART;TZID=Europe/Paris:20231202T140000
DTEND;TZID=Europe/Paris:20231203T170000
DTSTAMP:20260421T173641
CREATED:20231027T145510Z
LAST-MODIFIED:20231027T145510Z
UID:10001363-1701525600-1701622800@www.lacouronne.fr
SUMMARY:
DESCRIPTION:
URL:https://www.lacouronne.fr/evenement/8253/
CATEGORIES:Citoyenneté
ATTACH;FMTTYPE=image/jpeg:https://www.lacouronne.fr/wp-content/uploads/2023/10/Affiche_1010_2023_Salon_Modelisme_.jpg
END:VEVENT
BEGIN:VEVENT
DTSTART;TZID=Europe/Paris:20231204T080000
DTEND;TZID=Europe/Paris:20231223T170000
DTSTAMP:20260421T173641
CREATED:20231204T120558Z
LAST-MODIFIED:20231204T120558Z
UID:10001373-1701676800-1703350800@www.lacouronne.fr
SUMMARY:170 ans du Rail
DESCRIPTION:
URL:https://www.lacouronne.fr/evenement/170-ans-du-rail/
CATEGORIES:Patrimoine
ATTACH;FMTTYPE=image/jpeg:https://www.lacouronne.fr/wp-content/uploads/2023/12/Copie-de-Expo-170-ans-rail-LC.jpg
END:VEVENT
BEGIN:VEVENT
DTSTART;TZID=Europe/Paris:20231208T190000
DTEND;TZID=Europe/Paris:20231208T190000
DTSTAMP:20260421T173641
CREATED:20231114T162740Z
LAST-MODIFIED:20231115T104143Z
UID:10001369-1702062000-1702062000@www.lacouronne.fr
SUMMARY:Karaoké
DESCRIPTION:
URL:https://www.lacouronne.fr/evenement/karaoke/
CATEGORIES:Citoyenneté
ATTACH;FMTTYPE=image/jpeg:https://www.lacouronne.fr/wp-content/uploads/2023/11/Karaoke-A3-1-scaled.jpg
END:VEVENT
BEGIN:VEVENT
DTSTART;TZID=Europe/Paris:20231209T200000
DTEND;TZID=Europe/Paris:20231209T200000
DTSTAMP:20260421T173641
CREATED:20231109T132711Z
LAST-MODIFIED:20231121T080342Z
UID:10001367-1702152000-1702152000@www.lacouronne.fr
SUMMARY:Dîner dansant Téléthon
DESCRIPTION:Formulaire à télécharger : Diner dansant Téléthon  \n \n 
URL:https://www.lacouronne.fr/evenement/diner-dansant-telethon/
CATEGORIES:Citoyenneté
ATTACH;FMTTYPE=image/jpeg:https://www.lacouronne.fr/wp-content/uploads/2023/11/Diner-dansant-telethon-9-decembre-A3-2-scaled.jpg
END:VEVENT
BEGIN:VEVENT
DTSTART;TZID=Europe/Paris:20231210T140000
DTEND;TZID=Europe/Paris:20231210T170000
DTSTAMP:20260421T173641
CREATED:20231114T163051Z
LAST-MODIFIED:20231114T163051Z
UID:10001370-1702216800-1702227600@www.lacouronne.fr
SUMMARY:Loto Téléthon
DESCRIPTION:
URL:https://www.lacouronne.fr/evenement/loto-telethon/
CATEGORIES:Citoyenneté
ATTACH;FMTTYPE=image/jpeg:https://www.lacouronne.fr/wp-content/uploads/2023/11/Loto-Telethon-Decembre-A3-scaled.jpg
END:VEVENT
BEGIN:VEVENT
DTSTART;TZID=Europe/Paris:20231215T160000
DTEND;TZID=Europe/Paris:20231216T220000
DTSTAMP:20260421T173641
CREATED:20231204T121137Z
LAST-MODIFIED:20231204T152953Z
UID:10001374-1702656000-1702764000@www.lacouronne.fr
SUMMARY:Animations de Noël
DESCRIPTION:
URL:https://www.lacouronne.fr/evenement/animations-de-noel-2/
CATEGORIES:Citoyenneté
ATTACH;FMTTYPE=image/jpeg:https://www.lacouronne.fr/wp-content/uploads/2023/12/affiche-animation-de-noel--scaled.jpg
END:VEVENT
END:VCALENDAR