BEGIN:VCALENDAR
VERSION:2.0
PRODID:-//La Couronne - ECPv6.15.20//NONSGML v1.0//EN
CALSCALE:GREGORIAN
METHOD:PUBLISH
X-ORIGINAL-URL:https://www.lacouronne.fr
X-WR-CALDESC:Évènements pour La Couronne
REFRESH-INTERVAL;VALUE=DURATION:PT1H
X-Robots-Tag:noindex
X-PUBLISHED-TTL:PT1H
BEGIN:VTIMEZONE
TZID:Europe/Paris
BEGIN:DAYLIGHT
TZOFFSETFROM:+0100
TZOFFSETTO:+0200
TZNAME:CEST
DTSTART:20250330T010000
END:DAYLIGHT
BEGIN:STANDARD
TZOFFSETFROM:+0200
TZOFFSETTO:+0100
TZNAME:CET
DTSTART:20251026T010000
END:STANDARD
BEGIN:DAYLIGHT
TZOFFSETFROM:+0100
TZOFFSETTO:+0200
TZNAME:CEST
DTSTART:20260329T010000
END:DAYLIGHT
BEGIN:STANDARD
TZOFFSETFROM:+0200
TZOFFSETTO:+0100
TZNAME:CET
DTSTART:20261025T010000
END:STANDARD
BEGIN:DAYLIGHT
TZOFFSETFROM:+0100
TZOFFSETTO:+0200
TZNAME:CEST
DTSTART:20270328T010000
END:DAYLIGHT
BEGIN:STANDARD
TZOFFSETFROM:+0200
TZOFFSETTO:+0100
TZNAME:CET
DTSTART:20271031T010000
END:STANDARD
END:VTIMEZONE
BEGIN:VEVENT
DTSTART;TZID=Europe/Paris:20260620T140000
DTEND;TZID=Europe/Paris:20260621T180000
DTSTAMP:20260425T162242
CREATED:20260409T084517Z
LAST-MODIFIED:20260409T085317Z
UID:10001954-1781964000-1782064800@www.lacouronne.fr
SUMMARY:Challenge MASSI VTT
DESCRIPTION:Challenge MASSI VTT\nDates : Samedi 20 et dimanche 21 juin 2026\nLieu : Terrain du Moto Club et bois de La Couronne \nHoraires : \n\nSamedi 20 juin : 14h00 à 18h00 – Reconnaissance du circuit\nDimanche 21 juin : 9h00 à 18h00 – Compétition\n\nÉpreuve de niveau interrégional VTT organisée par le C O Couronnais Cyclisme. \nToutes les infos et règlement sur coc-cyclisme.clubeo.com \n 
URL:https://www.lacouronne.fr/evenement/challenge-massi-vtt/
LOCATION:Terrain Moto cross La Couronne
ATTACH;FMTTYPE=image/png:https://www.lacouronne.fr/wp-content/uploads/2026/04/Affiche-MASSI-2026.png
END:VEVENT
BEGIN:VEVENT
DTSTART;TZID=Europe/Paris:20260620T200000
DTEND;TZID=Europe/Paris:20260620T233000
DTSTAMP:20260425T162242
CREATED:20260422T093640Z
LAST-MODIFIED:20260422T093640Z
UID:10001973-1781985600-1781998200@www.lacouronne.fr
SUMMARY:Soirée Entrecôte - Frites
DESCRIPTION:Soirée Entrecôte – Frites\nSamedi 20 juin 2026\nAbbaye Notre-Dame\nOrganisé par La Coronellade \nVenez partager une soirée conviviale autour d’un repas gourmand et d’une ambiance festive. \nAu programme\n\n\n20h : Dîner entrecôte – frites (sur réservation uniquement) \n\n\n23h : DJ pour la soirée \n\n\nInformations complémentaires\nInscription obligatoire pour le dîner.\nBulletin d’inscription à retourner avec règlement avant le 15 juin 2026. (Nouvel onglet – PDF) \nBuvette et restauration rapide en continu sur place \nContact\ncoronellade16400@gmail.com\n06 05 16 95 64\n06 28 14 07 40 76
URL:https://www.lacouronne.fr/evenement/soiree-entrecote-frites/
LOCATION:Abbaye Notre-Dame
ATTACH;FMTTYPE=image/jpeg:https://www.lacouronne.fr/wp-content/uploads/2026/04/672680279_122218519154550145_9219126164178267482_n.jpg
END:VEVENT
BEGIN:VEVENT
DTSTART;TZID=Europe/Paris:20260626T103000
DTEND;TZID=Europe/Paris:20260626T113000
DTSTAMP:20260425T162242
CREATED:20260417T075414Z
LAST-MODIFIED:20260417T075414Z
UID:10001968-1782469800-1782473400@www.lacouronne.fr
SUMMARY:Homeland – Sortie de résidence
DESCRIPTION:Homeland – Sortie de résidence\nVendredi 26 juin à 10h30\nAbbaye Notre-Dame \nSortie de résidence « Homeland » par la Cie Storyteller. \nQuand la terre sculpte l’être\nQuand l’être choisit sa terre \nUne île : deux habitantes qui se façonnent au gré de l’évolution de leur terre. \nL’une reste\, l’autre la quitte\, se construisant au fil du voyage\, portée par ses origines\, cherchant un ailleurs où ancrer ses racines. \n 
URL:https://www.lacouronne.fr/evenement/homeland-sortie-de-residence/
LOCATION:Jardin public Eugène Bureau
ATTACH;FMTTYPE=image/png:https://www.lacouronne.fr/wp-content/uploads/2026/04/VALIDE-La-eau-A4.png
END:VEVENT
BEGIN:VEVENT
DTSTART;TZID=Europe/Paris:20260626T170000
DTEND;TZID=Europe/Paris:20260626T183000
DTSTAMP:20260425T162242
CREATED:20260327T135813Z
LAST-MODIFIED:20260327T135907Z
UID:10001946-1782493200-1782498600@www.lacouronne.fr
SUMMARY:Nos p’tits ateliers – Jeu vidéo : Labo
DESCRIPTION:Atelier jeu vidéo : Labo \nVendredi 26 juin – 17h\nLa Tréfilerie\nDès 7/8 ans\nSur inscription : 05 45 67 29 67 ou mediatheque@lacouronne.fr \nLa Tréfilerie vous invite à découvrir de nouvelles manières de jouer en utilisant vos propres constructions\, en partenariat avec la Médiathèque Départementale de la Charente. \nImaginez pouvoir transformer de simples bouts de carton en à peu près n’importe quoi : gagner une course en moto\, attraper des poissons avec une canne à pêche\, ou téléguider une petite voiture. La valise contient également une sélection de jeux vidéo. \nUn moment ludique et créatif pour éveiller la curiosité et porter un regard nouveau sur les matériaux qui nous entourent. \nD’autres ateliers jeu vidéo Labo seront programmés durant l’été.
URL:https://www.lacouronne.fr/evenement/nos-ptits-ateliers-jeux-video-labo/
LOCATION:La Tréfilerie\, 1 allée des Sports\, La Couronne\, 16400\, France
ATTACH;FMTTYPE=image/png:https://www.lacouronne.fr/wp-content/uploads/2026/03/VALIDE-Jeux-video-Labo-Nos-ptits-ateliers.png
GEO:45.6056604;0.0984488
X-APPLE-STRUCTURED-LOCATION;VALUE=URI;X-ADDRESS=La Tréfilerie 1 allée des Sports La Couronne 16400 France;X-APPLE-RADIUS=500;X-TITLE=1 allée des Sports:geo:0.0984488,45.6056604
END:VEVENT
BEGIN:VEVENT
DTSTART;TZID=Europe/Paris:20260627T103000
DTEND;TZID=Europe/Paris:20260627T110000
DTSTAMP:20260425T162242
CREATED:20260310T151756Z
LAST-MODIFIED:20260311T074251Z
UID:10001920-1782556200-1782558000@www.lacouronne.fr
SUMMARY:Bébés lecteurs
DESCRIPTION:Rendez-vous le samedi 27 juin à 10h30 \nDe 0 à 5 ans • Gratuit • Entrée libre (durée 30 min) • Thématique : l’été \nHistoires\, chansons\, marionnettes\, et autres surprises sont prévues pour ces rendez-vous incontournables des tout·es-petit·es !
URL:https://www.lacouronne.fr/evenement/bebes-lecteurs-27/
LOCATION:La Tréfilerie\, 1 allée des Sports\, La Couronne\, 16400\, France
ATTACH;FMTTYPE=image/jpeg:https://www.lacouronne.fr/wp-content/uploads/2026/03/VALIDE-Bebes-lecteurs-lete-juin-A4.jpg
GEO:45.6056604;0.0984488
X-APPLE-STRUCTURED-LOCATION;VALUE=URI;X-ADDRESS=La Tréfilerie 1 allée des Sports La Couronne 16400 France;X-APPLE-RADIUS=500;X-TITLE=1 allée des Sports:geo:0.0984488,45.6056604
END:VEVENT
BEGIN:VEVENT
DTSTART;TZID=Europe/Paris:20260627T160000
DTEND;TZID=Europe/Paris:20260627T230000
DTSTAMP:20260425T162242
CREATED:20260422T090822Z
LAST-MODIFIED:20260422T090822Z
UID:10001972-1782576000-1782601200@www.lacouronne.fr
SUMMARY:Descentes de caisses à savon - La Coronellade
DESCRIPTION:La traditionnelle descente de caisses à savon de La Coronellade est de retour\, en semi-nocturne ! \nSamedi 27 juin\nDépart La Contrie\nOrganisé par La Coronellade \nLes inscriptions sont ouvertes jusqu’au 18 juin. \nContact : \n\n06 11 30 43 98\n06 69 48 58 02
URL:https://www.lacouronne.fr/evenement/descentes-de-caisses-a-savon-la-coronellade/
ATTACH;FMTTYPE=image/jpeg:https://www.lacouronne.fr/wp-content/uploads/2026/04/673502681_122218518914550145_2423698880496293083_n.jpg
END:VEVENT
BEGIN:VEVENT
DTSTART;TZID=Europe/Paris:20260630T200000
DTEND;TZID=Europe/Paris:20260630T213000
DTSTAMP:20260425T162242
CREATED:20260323T145538Z
LAST-MODIFIED:20260323T145538Z
UID:10001937-1782849600-1782855000@www.lacouronne.fr
SUMMARY:Mardi\, c’est ciné ! « Voyage en Italie »
DESCRIPTION:Mardi\, c’est ciné ! - « Voyage en Italie »\nMardi 30 juin – 20h\nThéâtre de La Tréfilerie\nTout public – Gratuit – Sur réservation \nChaque dernier mardi du mois\, La Tréfilerie vous invite à son rendez-vous cinéma : « Mardi\, c’est ciné ! »\, en partenariat avec le Cinéma de la Cité\, la Cité internationale de la bande dessinée et de l’image et l’ADRC. \nLe ciné\, c’est aussi des comédies du quotidien.\nPour cette séance\, découvrez Voyage en Italie\, un film de Sophie Letourneur. \nUne escapade romantique peut-elle raviver la flamme dans un couple ? Elle a réussi à le convaincre de partir quelques jours sans enfants. Ce sera où il a envie\, sauf en Italie. Il y est déjà allé avec toutes ses ex… L’Espagne ? Les sentiers de l’Aubrac ? Ce sera finalement la Sicile – car selon lui\, c’est pas tout à fait l’Italie. \nUne comédie pleine d’humour sur le couple et les souvenirs. \n 
URL:https://www.lacouronne.fr/evenement/mardi-cest-cine-voyage-en-italie/
LOCATION:La Tréfilerie\, 1 allée des Sports\, La Couronne\, 16400\, France
ATTACH;FMTTYPE=image/png:https://www.lacouronne.fr/wp-content/uploads/2026/03/VALIDE-Mardis-cest-cine-Voyage-en-Italie.png
GEO:45.6056604;0.0984488
X-APPLE-STRUCTURED-LOCATION;VALUE=URI;X-ADDRESS=La Tréfilerie 1 allée des Sports La Couronne 16400 France;X-APPLE-RADIUS=500;X-TITLE=1 allée des Sports:geo:0.0984488,45.6056604
END:VEVENT
BEGIN:VEVENT
DTSTART;TZID=Europe/Paris:20260905T100000
DTEND;TZID=Europe/Paris:20260906T180000
DTSTAMP:20260425T162243
CREATED:20260409T090311Z
LAST-MODIFIED:20260409T090348Z
UID:10001956-1788602400-1788717600@www.lacouronne.fr
SUMMARY:Les Médiévales
DESCRIPTION:Les Médiévales\nDates : \n\nSamedi 5 septembre 2026 – De 10h à 23h\nDimanche 6 septembre 2026 – De 10h à 18h\n\nLieu : Abbaye Notre Dame – La Couronne \nOrganisées par La Couronne\, une Histoire de Cœur\, les Médiévales proposent : \n\nanimations\nartisans\ntroupes\nbanquet avec spectacle de feu
URL:https://www.lacouronne.fr/evenement/les-medievales-2/
LOCATION:Abbaye Notre-Dame
END:VEVENT
END:VCALENDAR