BEGIN:VCALENDAR
VERSION:2.0
PRODID:-//La Couronne - ECPv6.15.20//NONSGML v1.0//EN
CALSCALE:GREGORIAN
METHOD:PUBLISH
X-WR-CALNAME:La Couronne
X-ORIGINAL-URL:https://www.lacouronne.fr
X-WR-CALDESC:Évènements pour La Couronne
REFRESH-INTERVAL;VALUE=DURATION:PT1H
X-Robots-Tag:noindex
X-PUBLISHED-TTL:PT1H
BEGIN:VTIMEZONE
TZID:Europe/Paris
BEGIN:DAYLIGHT
TZOFFSETFROM:+0100
TZOFFSETTO:+0200
TZNAME:CEST
DTSTART:20230326T010000
END:DAYLIGHT
BEGIN:STANDARD
TZOFFSETFROM:+0200
TZOFFSETTO:+0100
TZNAME:CET
DTSTART:20231029T010000
END:STANDARD
BEGIN:DAYLIGHT
TZOFFSETFROM:+0100
TZOFFSETTO:+0200
TZNAME:CEST
DTSTART:20240331T010000
END:DAYLIGHT
BEGIN:STANDARD
TZOFFSETFROM:+0200
TZOFFSETTO:+0100
TZNAME:CET
DTSTART:20241027T010000
END:STANDARD
BEGIN:DAYLIGHT
TZOFFSETFROM:+0100
TZOFFSETTO:+0200
TZNAME:CEST
DTSTART:20250330T010000
END:DAYLIGHT
BEGIN:STANDARD
TZOFFSETFROM:+0200
TZOFFSETTO:+0100
TZNAME:CET
DTSTART:20251026T010000
END:STANDARD
END:VTIMEZONE
BEGIN:VEVENT
DTSTART;TZID=Europe/Paris:20240301T080000
DTEND;TZID=Europe/Paris:20240315T170000
DTSTAMP:20260424T152226
CREATED:20240226T111139Z
LAST-MODIFIED:20240326T122606Z
UID:10001401-1709280000-1710522000@www.lacouronne.fr
SUMMARY:Exposition Jeunesse pour l'Égalité - Dans le cadre de la quinzaine de l'Égalité
DESCRIPTION:
URL:https://www.lacouronne.fr/evenement/exposition-jeunesse-pour-legalite-dans-le-cadre-de-la-quinzaine-de-legalite/
CATEGORIES:Culture
ATTACH;FMTTYPE=image/png:https://www.lacouronne.fr/wp-content/uploads/2024/02/exposition-jeunesse-et-egalite.png
END:VEVENT
BEGIN:VEVENT
DTSTART;TZID=Europe/Paris:20240303T080000
DTEND;TZID=Europe/Paris:20240303T180000
DTSTAMP:20260424T152226
CREATED:20240226T105925Z
LAST-MODIFIED:20240226T105925Z
UID:10001400-1709452800-1709488800@www.lacouronne.fr
SUMMARY:Concert - Sortie de résidence : Merci Demimot - Gratuit
DESCRIPTION: 
URL:https://www.lacouronne.fr/evenement/concert-sortie-de-residence-merci-demimot-gratuit/
CATEGORIES:Culture
ATTACH;FMTTYPE=image/jpeg:https://www.lacouronne.fr/wp-content/uploads/2024/02/AFFICHE-1-1.jpg
END:VEVENT
BEGIN:VEVENT
DTSTART;TZID=Europe/Paris:20240304T080000
DTEND;TZID=Europe/Paris:20240315T170000
DTSTAMP:20260424T152226
CREATED:20240226T123445Z
LAST-MODIFIED:20240304T103002Z
UID:10001405-1709539200-1710522000@www.lacouronne.fr
SUMMARY:Exposition Paroles de Femmes - Dans le cadre de la Quinzaine de l'Égalité
DESCRIPTION:Rétrospective « Paroles de Femmes » pour porter la voix des bénévoles\, des habitantes.  \nHoraires d’ouverture du Colibri – Salle d’activité du Colibri – Tout public 
URL:https://www.lacouronne.fr/evenement/exposition-paroles-de-femmes-dans-le-cadre-de-la-quinzaine-de-legalite/
CATEGORIES:Culture
ATTACH;FMTTYPE=image/png:https://www.lacouronne.fr/wp-content/uploads/2024/02/2024-02-AFFICHE-egalite-A3-1.png
END:VEVENT
BEGIN:VEVENT
DTSTART;TZID=Europe/Paris:20240304T080000
DTEND;TZID=Europe/Paris:20240331T170000
DTSTAMP:20260424T152226
CREATED:20240226T122819Z
LAST-MODIFIED:20240304T103146Z
UID:10001403-1709539200-1711904400@www.lacouronne.fr
SUMMARY:Concours de nouvelles - Dans le cadre de la Quinzaine de l'Égalité
DESCRIPTION:
URL:https://www.lacouronne.fr/evenement/concours-de-nouvelles-dans-le-cadre-de-la-quinzaine-de-legalite/
CATEGORIES:Culture
ATTACH;FMTTYPE=image/png:https://www.lacouronne.fr/wp-content/uploads/2024/03/Capture-decran-2024-03-04-a-11.15.39.png
END:VEVENT
BEGIN:VEVENT
DTSTART;TZID=Europe/Paris:20240306T190000
DTEND;TZID=Europe/Paris:20240306T190000
DTSTAMP:20260424T152226
CREATED:20240226T111819Z
LAST-MODIFIED:20240304T103230Z
UID:10001402-1709751600-1709751600@www.lacouronne.fr
SUMMARY:Spectacle Hors Normes Par la Cie Betty Blues - Dans le cadre de la Quinzaine de l'Égalité
DESCRIPTION:
URL:https://www.lacouronne.fr/evenement/spectacle-hors-normes-par-la-cie-betty-blues-dans-le-cadre-de-la-quinzaine-de-legalite/
CATEGORIES:Culture
ATTACH;FMTTYPE=image/png:https://www.lacouronne.fr/wp-content/uploads/2024/02/hors-normes.png
END:VEVENT
BEGIN:VEVENT
DTSTART;TZID=Europe/Paris:20240308T080000
DTEND;TZID=Europe/Paris:20240308T180000
DTSTAMP:20260424T152226
CREATED:20240304T094339Z
LAST-MODIFIED:20240304T095349Z
UID:10001408-1709884800-1709920800@www.lacouronne.fr
SUMMARY:Invitation - Projection du film Les Incorrectes
DESCRIPTION:Réservation : \nEstelle ARRIVE\nDépartement de la Charente\nearrive@lacharente.fr\n05 16 09 71 23 – 06 26 74 48 87
URL:https://www.lacouronne.fr/evenement/8748/
CATEGORIES:Culture
ATTACH;FMTTYPE=image/jpeg:https://www.lacouronne.fr/wp-content/uploads/2024/03/Invitation_Les-Incorrectes-scaled.jpg
END:VEVENT
BEGIN:VEVENT
DTSTART;TZID=Europe/Paris:20240313T100000
DTEND;TZID=Europe/Paris:20240313T110000
DTSTAMP:20260424T152226
CREATED:20240205T111351Z
LAST-MODIFIED:20240304T103437Z
UID:10001395-1710324000-1710327600@www.lacouronne.fr
SUMMARY:Bébés Lecteurs
DESCRIPTION:
URL:https://www.lacouronne.fr/evenement/bebes-lecteurs-3/
CATEGORIES:Culture
ATTACH;FMTTYPE=image/jpeg:https://www.lacouronne.fr/wp-content/uploads/2024/02/4.jpg
END:VEVENT
BEGIN:VEVENT
DTSTART;TZID=Europe/Paris:20240315T200000
DTEND;TZID=Europe/Paris:20240315T200000
DTSTAMP:20260424T152226
CREATED:20240226T123054Z
LAST-MODIFIED:20240326T160528Z
UID:10001404-1710532800-1710532800@www.lacouronne.fr
SUMMARY:Projection film documentaire WOMAN - Dans le cadre de la quinzaine de l'Égalité
DESCRIPTION:
URL:https://www.lacouronne.fr/evenement/projection-film-documentaire-woman-dans-le-cadre-de-la-quinzaine-de-legalite/
CATEGORIES:Culture
ATTACH;FMTTYPE=image/png:https://www.lacouronne.fr/wp-content/uploads/2024/02/Projection-woman.png
END:VEVENT
BEGIN:VEVENT
DTSTART;TZID=Europe/Paris:20240319T100000
DTEND;TZID=Europe/Paris:20240319T110000
DTSTAMP:20260424T152226
CREATED:20240205T111250Z
LAST-MODIFIED:20240304T103527Z
UID:10001394-1710842400-1710846000@www.lacouronne.fr
SUMMARY:Lecture sans frontières
DESCRIPTION:
URL:https://www.lacouronne.fr/evenement/lecture-sans-frontieres/
CATEGORIES:Culture
ATTACH;FMTTYPE=image/jpeg:https://www.lacouronne.fr/wp-content/uploads/2024/02/Ajouter-un-sous-titre-3-1.jpg
END:VEVENT
BEGIN:VEVENT
DTSTART;TZID=Europe/Paris:20240322T080000
DTEND;TZID=Europe/Paris:20240412T170000
DTSTAMP:20260424T152226
CREATED:20240319T084124Z
LAST-MODIFIED:20240319T084124Z
UID:10001410-1711094400-1712941200@www.lacouronne.fr
SUMMARY:Exposition " Histoire\, Sport et Citoyenneté "
DESCRIPTION:Exposition au Centre Culturel La Couronne – GRATUIT 
URL:https://www.lacouronne.fr/evenement/exposition-histoire-sport-et-citoyennete/
CATEGORIES:Culture
ATTACH;FMTTYPE=image/jpeg:https://www.lacouronne.fr/wp-content/uploads/2024/03/Affiche_expo_casden-2.jpg
END:VEVENT
BEGIN:VEVENT
DTSTART;TZID=Europe/Paris:20240322T200000
DTEND;TZID=Europe/Paris:20240322T200000
DTSTAMP:20260424T152226
CREATED:20240205T154614Z
LAST-MODIFIED:20240219T083820Z
UID:10001397-1711137600-1711137600@www.lacouronne.fr
SUMMARY:Vole Eddie Vole !
DESCRIPTION:
URL:https://www.lacouronne.fr/evenement/vole-eddie-vole/
CATEGORIES:Culture
ATTACH;FMTTYPE=image/jpeg:https://www.lacouronne.fr/wp-content/uploads/2024/02/affiche-40x60-OK.jpg
END:VEVENT
END:VCALENDAR