BEGIN:VCALENDAR
VERSION:2.0
PRODID:-//La Couronne - ECPv6.15.20//NONSGML v1.0//EN
CALSCALE:GREGORIAN
METHOD:PUBLISH
X-ORIGINAL-URL:https://www.lacouronne.fr
X-WR-CALDESC:Évènements pour La Couronne
REFRESH-INTERVAL;VALUE=DURATION:PT1H
X-Robots-Tag:noindex
X-PUBLISHED-TTL:PT1H
BEGIN:VTIMEZONE
TZID:Europe/Paris
BEGIN:DAYLIGHT
TZOFFSETFROM:+0100
TZOFFSETTO:+0200
TZNAME:CEST
DTSTART:20230326T010000
END:DAYLIGHT
BEGIN:STANDARD
TZOFFSETFROM:+0200
TZOFFSETTO:+0100
TZNAME:CET
DTSTART:20231029T010000
END:STANDARD
BEGIN:DAYLIGHT
TZOFFSETFROM:+0100
TZOFFSETTO:+0200
TZNAME:CEST
DTSTART:20240331T010000
END:DAYLIGHT
BEGIN:STANDARD
TZOFFSETFROM:+0200
TZOFFSETTO:+0100
TZNAME:CET
DTSTART:20241027T010000
END:STANDARD
BEGIN:DAYLIGHT
TZOFFSETFROM:+0100
TZOFFSETTO:+0200
TZNAME:CEST
DTSTART:20250330T010000
END:DAYLIGHT
BEGIN:STANDARD
TZOFFSETFROM:+0200
TZOFFSETTO:+0100
TZNAME:CET
DTSTART:20251026T010000
END:STANDARD
END:VTIMEZONE
BEGIN:VEVENT
DTSTART;TZID=Europe/Paris:20240907T100000
DTEND;TZID=Europe/Paris:20240908T180000
DTSTAMP:20260424T210232
CREATED:20240729T063918Z
LAST-MODIFIED:20240729T063918Z
UID:10001484-1725703200-1725818400@www.lacouronne.fr
SUMMARY:Les journées médiévales de La Couronne
DESCRIPTION:
URL:https://www.lacouronne.fr/evenement/les-journees-medievales-de-la-couronne-2/
ATTACH;FMTTYPE=image/png:https://www.lacouronne.fr/wp-content/uploads/2024/07/Capture-decran-2024-07-25-152651.png
END:VEVENT
BEGIN:VEVENT
DTSTART;TZID=Europe/Paris:20240921T080000
DTEND;TZID=Europe/Paris:20240922T190000
DTSTAMP:20260424T210232
CREATED:20240830T075132Z
LAST-MODIFIED:20240906T152556Z
UID:10001491-1726905600-1727031600@www.lacouronne.fr
SUMMARY:Journées Européennes du Patrimoine 2024
DESCRIPTION:
URL:https://www.lacouronne.fr/evenement/journees-europeennes-du-patrimoine-2024/
ATTACH;FMTTYPE=image/png:https://www.lacouronne.fr/wp-content/uploads/2024/08/Affiche-A4.png
END:VEVENT
BEGIN:VEVENT
DTSTART;TZID=Europe/Paris:20240922T083000
DTEND;TZID=Europe/Paris:20240922T170000
DTSTAMP:20260424T210232
CREATED:20240806T063448Z
LAST-MODIFIED:20240806T063448Z
UID:10001485-1726993800-1727024400@www.lacouronne.fr
SUMMARY:Bourse aux Jouets de Collection et Exposition Modélisme
DESCRIPTION:
URL:https://www.lacouronne.fr/evenement/bourse-aux-jouets-de-collection-et-exposition-modelisme/
ATTACH;FMTTYPE=image/jpeg:https://www.lacouronne.fr/wp-content/uploads/2024/08/Affiche-officielle-sans-pub1_page-0001-scaled.jpg
END:VEVENT
END:VCALENDAR