BEGIN:VCALENDAR
VERSION:2.0
PRODID:-//La Couronne - ECPv6.15.20//NONSGML v1.0//EN
CALSCALE:GREGORIAN
METHOD:PUBLISH
X-ORIGINAL-URL:https://www.lacouronne.fr
X-WR-CALDESC:Évènements pour La Couronne
REFRESH-INTERVAL;VALUE=DURATION:PT1H
X-Robots-Tag:noindex
X-PUBLISHED-TTL:PT1H
BEGIN:VTIMEZONE
TZID:Europe/Paris
BEGIN:DAYLIGHT
TZOFFSETFROM:+0100
TZOFFSETTO:+0200
TZNAME:CEST
DTSTART:20250330T010000
END:DAYLIGHT
BEGIN:STANDARD
TZOFFSETFROM:+0200
TZOFFSETTO:+0100
TZNAME:CET
DTSTART:20251026T010000
END:STANDARD
BEGIN:DAYLIGHT
TZOFFSETFROM:+0100
TZOFFSETTO:+0200
TZNAME:CEST
DTSTART:20260329T010000
END:DAYLIGHT
BEGIN:STANDARD
TZOFFSETFROM:+0200
TZOFFSETTO:+0100
TZNAME:CET
DTSTART:20261025T010000
END:STANDARD
BEGIN:DAYLIGHT
TZOFFSETFROM:+0100
TZOFFSETTO:+0200
TZNAME:CEST
DTSTART:20270328T010000
END:DAYLIGHT
BEGIN:STANDARD
TZOFFSETFROM:+0200
TZOFFSETTO:+0100
TZNAME:CET
DTSTART:20271031T010000
END:STANDARD
END:VTIMEZONE
BEGIN:VEVENT
DTSTART;TZID=Europe/Paris:20260131T090000
DTEND;TZID=Europe/Paris:20260131T130000
DTSTAMP:20260425T053248
CREATED:20260121T124829Z
LAST-MODIFIED:20260121T124829Z
UID:10001872-1769850000-1769864400@www.lacouronne.fr
SUMMARY:Journée portes ouvertes - Croix-Rouge française compétence
DESCRIPTION:Journée portes ouvertes de l’Institut Croix-Rouge Compétence de La Couronne\nDate : 31 janvier\nHoraires : 9h – 13h\nLieu : 86 route de Breuty \nVous souhaitez découvrir le monde des métiers du soin\, de l’accompagnement et du social ? L’Institut Croix-Rouge Compétence de La Couronne vous ouvre ses portes pour une matinée dédiée à votre orientation et à votre futur professionnel. \nProfils de formations proposés :\nAccompagnant·e éducatif et social\, aide-soignant·e\, ambulancier·ère\, auxiliaire de puériculture\, assistant·e médical\, assistant·e de service social\, infirmier·ère\, manipulateur·rice d’électroradiologie médicale\, masseur·euse-kinésithérapeute\, secrétaire médical et médico-social… et bien d’autres. \nAu programme : \n\n\nDécouverte des locaux et des équipements mis au service des apprenant·es \n\n\nPrésentation complète de nos offres : CFA\, pôle d’accompagnement à la réussite\, bureau des relations internationales \n\n\nRencontres avec nos équipes et nos apprenant·es pour répondre à toutes vos questions : modalités d’accès\, débouchés\, planning\, apprentissage… \n\n\nPossibilité de vous projeter dans votre future formation et d’échanger sur votre parcours \n\n\nVenez explorer vos opportunités et préparer votre avenir avec l’Institut Croix-Rouge Compétence !
URL:https://www.lacouronne.fr/evenement/journee-portes-ouvertes-croix-rouge-francaise-competence/
LOCATION:Croix-Rouge française compétence\, 86 route de Breuty\, La Couronne\, 16400\, France
ATTACH;FMTTYPE=image/jpeg:https://www.lacouronne.fr/wp-content/uploads/2026/01/Affiche-JPO-31-janvier-2026-2-scaled.jpg
GEO:45.619766;0.121678
X-APPLE-STRUCTURED-LOCATION;VALUE=URI;X-ADDRESS=Croix-Rouge française compétence 86 route de Breuty La Couronne 16400 France;X-APPLE-RADIUS=500;X-TITLE=86 route de Breuty:geo:0.121678,45.619766
END:VEVENT
END:VCALENDAR