BEGIN:VCALENDAR
VERSION:2.0
PRODID:-//La Couronne - ECPv6.15.20//NONSGML v1.0//EN
CALSCALE:GREGORIAN
METHOD:PUBLISH
X-WR-CALNAME:La Couronne
X-ORIGINAL-URL:https://www.lacouronne.fr
X-WR-CALDESC:Évènements pour La Couronne
REFRESH-INTERVAL;VALUE=DURATION:PT1H
X-Robots-Tag:noindex
X-PUBLISHED-TTL:PT1H
BEGIN:VTIMEZONE
TZID:Europe/Paris
BEGIN:DAYLIGHT
TZOFFSETFROM:+0100
TZOFFSETTO:+0200
TZNAME:CEST
DTSTART:20220327T010000
END:DAYLIGHT
BEGIN:STANDARD
TZOFFSETFROM:+0200
TZOFFSETTO:+0100
TZNAME:CET
DTSTART:20221030T010000
END:STANDARD
BEGIN:DAYLIGHT
TZOFFSETFROM:+0100
TZOFFSETTO:+0200
TZNAME:CEST
DTSTART:20230326T010000
END:DAYLIGHT
BEGIN:STANDARD
TZOFFSETFROM:+0200
TZOFFSETTO:+0100
TZNAME:CET
DTSTART:20231029T010000
END:STANDARD
BEGIN:DAYLIGHT
TZOFFSETFROM:+0100
TZOFFSETTO:+0200
TZNAME:CEST
DTSTART:20240331T010000
END:DAYLIGHT
BEGIN:STANDARD
TZOFFSETFROM:+0200
TZOFFSETTO:+0100
TZNAME:CET
DTSTART:20241027T010000
END:STANDARD
BEGIN:DAYLIGHT
TZOFFSETFROM:+0100
TZOFFSETTO:+0200
TZNAME:CEST
DTSTART:20250330T010000
END:DAYLIGHT
BEGIN:STANDARD
TZOFFSETFROM:+0200
TZOFFSETTO:+0100
TZNAME:CET
DTSTART:20251026T010000
END:STANDARD
BEGIN:DAYLIGHT
TZOFFSETFROM:+0100
TZOFFSETTO:+0200
TZNAME:CEST
DTSTART:20260329T010000
END:DAYLIGHT
BEGIN:STANDARD
TZOFFSETFROM:+0200
TZOFFSETTO:+0100
TZNAME:CET
DTSTART:20261025T010000
END:STANDARD
END:VTIMEZONE
BEGIN:VEVENT
DTSTART;VALUE=DATE:20251124
DTEND;VALUE=DATE:20251129
DTSTAMP:20260424T012601
CREATED:20251016T083828Z
LAST-MODIFIED:20251114T100038Z
UID:10001779-1763942400-1764374399@www.lacouronne.fr
SUMMARY:Semaine Engagée - Le Consentement – Le Colibri - CSCS La Couronne
DESCRIPTION:Semaine Engagée  – Le Consentement – Le Colibri – CSCS La Couronne\nDate : Du lundi 24 au vendredi 28 novembre 2025 \nLieu : Le Colibri – CSCS La Couronne \n 
URL:https://www.lacouronne.fr/evenement/semaine-engagee-le-consentement-le-colibri-cscs-la-couronne/
LOCATION:Le Colibri CSCS\, 1 Allée des Sports\, La Couronne\, France
ATTACH;FMTTYPE=image/png:https://www.lacouronne.fr/wp-content/uploads/2025/10/Affiche-Semaine-Engagee-2025-Le-Colibri.png
GEO:45.6055405;0.0976013
X-APPLE-STRUCTURED-LOCATION;VALUE=URI;X-ADDRESS=Le Colibri CSCS 1 Allée des Sports La Couronne France;X-APPLE-RADIUS=500;X-TITLE=1 Allée des Sports:geo:0.0976013,45.6055405
END:VEVENT
BEGIN:VEVENT
DTSTART;VALUE=DATE:20230306
DTEND;VALUE=DATE:20230416
DTSTAMP:20260424T012601
CREATED:20230224T151710Z
LAST-MODIFIED:20230224T151710Z
UID:10001307-1678060800-1681603199@www.lacouronne.fr
SUMMARY:Égalité à La Couronne
DESCRIPTION:Retrouvez tout le programme de l’évènement que vous proposent la Ville de La Couronne\, Le Colibri CSCS La Couronne et leurs partenaires engagés pour la promotion de l’égalité et l’élimination des violences et discriminations.
URL:https://www.lacouronne.fr/evenement/egalite-a-la-couronne/
LOCATION:Espace Les 2B\, 1 Allée des Sports\, La Couronne\, 16400
ATTACH;FMTTYPE=image/png:https://www.lacouronne.fr/wp-content/uploads/2023/02/Egalite-LC-23-A5-R.png
END:VEVENT
END:VCALENDAR